BEGIN:VCALENDAR
VERSION:2.0
PRODID:-//Tukios.com/
BEGIN:VEVENT
UID:b1b14b8e-a605-4db0-a43d-312affb31e7a@www.vanderburgfh.com
DTSTAMP:20260423T035904Z
DTSTART:20260427T150000Z
DTEND:20260427T160000Z
SUMMARY:Funeral Service
DESCRIPTION:
URL:https://www.vanderburgfh.com/obituaries/queen-jackson
LOCATION:Vanderburg Family Funeral Home & Cremation Service, Inc. 804 
	Delaware Avenue  Bethlehem PA 18015
GEO:40.6074913;-75.3917819
END:VEVENT
END:VCALENDAR