BEGIN:VCALENDAR
VERSION:2.0
PRODID:-//Tukios.com/
BEGIN:VEVENT
UID:a90838a9-6e5f-4ffe-85f3-29934c5e15b2@www.vanderburgfh.com
DTSTAMP:20260423T035406Z
DTSTART:20260427T140000Z
DTEND:20260427T150000Z
SUMMARY:Viewing
DESCRIPTION:
URL:https://www.vanderburgfh.com/obituaries/queen-jackson
LOCATION:Vanderburg Family Funeral Home & Cremation Service, Inc. 804 
	Delaware Avenue  Bethlehem PA 18015
GEO:40.6074913;-75.3917819
END:VEVENT
END:VCALENDAR